dset ^prec_monthly_1948-2016.bin
title Contact justin@princeton.edu
undef -999.000000
xdef 1440 linear 0.125000 0.250000
ydef 600 linear -59.875000 0.250000
zdef 1 levels 0
tdef 828 linear jan1948 1mo
vars 1
data 0 99 The data
endvars
